BEGIN:VCALENDAR
VERSION:2.0
PRODID:-//Capitol Clean Cities of Connecticut - ECPv5.0.3.1//NONSGML v1.0//EN
CALSCALE:GREGORIAN
METHOD:PUBLISH
X-WR-CALNAME:Capitol Clean Cities of Connecticut
X-ORIGINAL-URL:http://ct-ccc.org/wp
X-WR-CALDESC:Events for Capitol Clean Cities of Connecticut
BEGIN:VTIMEZONE
TZID:America/New_York
BEGIN:DAYLIGHT
TZOFFSETFROM:-0500
TZOFFSETTO:-0400
TZNAME:EDT
DTSTART:20210314T070000
END:DAYLIGHT
BEGIN:STANDARD
TZOFFSETFROM:-0400
TZOFFSETTO:-0500
TZNAME:EST
DTSTART:20211107T060000
END:STANDARD
END:VTIMEZONE
BEGIN:VEVENT
DTSTART;TZID=America/New_York:20210613T120000
DTEND;TZID=America/New_York:20210613T160000
DTSTAMP:20260421T212244
CREATED:20210608T223350Z
LAST-MODIFIED:20210608T231948Z
UID:980-1623585600-1623600000@ct-ccc.org
SUMMARY:PART 4: GETTING ZERO EMISSION VEHICLES INTO OUR TOWNS! BLOOMFIELD
DESCRIPTION:Traveling Show of the Latest Electric Vehicles:\nZEV’s or Zero Emission Vehicles are no longer just the future.  They have started to show up in your communities\, and the technology is continuously improving.  \nFollow us in our series and come with your questions and learn about the technologies of today and how you may become part of that new low-carbon future.  \nA collaboration by: \nTown of Bloomfield |  Town of West Hartford   |  Capitol Clean Cities of CT\, Inc. \n
URL:http://ct-ccc.org/wp/event/traveling-show-of-the-latest-electric-vehicles/
LOCATION:Human Services Building Parking Area\, 330 Park Avenue\, Bloomfield\, CT\, United States
ATTACH;FMTTYPE=image/png:http://ct-ccc.org/wp/wp-content/uploads/2021/06/Screen-Shot-2021-06-08-at-7.17.10-PM.png
END:VEVENT
END:VCALENDAR