BEGIN:VCALENDAR
VERSION:2.0
PRODID:-//Capitol Clean Cities of Connecticut - ECPv5.0.3.1//NONSGML v1.0//EN
CALSCALE:GREGORIAN
METHOD:PUBLISH
X-WR-CALNAME:Capitol Clean Cities of Connecticut
X-ORIGINAL-URL:http://ct-ccc.org/wp
X-WR-CALDESC:Events for Capitol Clean Cities of Connecticut
BEGIN:VTIMEZONE
TZID:America/New_York
BEGIN:DAYLIGHT
TZOFFSETFROM:-0500
TZOFFSETTO:-0400
TZNAME:EDT
DTSTART:20210314T070000
END:DAYLIGHT
BEGIN:STANDARD
TZOFFSETFROM:-0400
TZOFFSETTO:-0500
TZNAME:EST
DTSTART:20211107T060000
END:STANDARD
END:VTIMEZONE
BEGIN:VEVENT
DTSTART;TZID=America/New_York:20210911T150000
DTEND;TZID=America/New_York:20210911T180000
DTSTAMP:20260421T163050
CREATED:20210908T211245Z
LAST-MODIFIED:20210908T211743Z
UID:1022-1631372400-1631383200@ct-ccc.org
SUMMARY:PART 5:  GETTING ZERO EMISSION VEHICLES INTO OUR TOWNS!
DESCRIPTION:Traveling Show of the Latest Electric Vehicles Comes to SEPTEMBERFEAST! \nSeptember 11: 3 – 6 pm\nSimsbury Meadows Performing Arts Center\,\n22 Iron Horse Boulevard\, Simsbury\, CT  \nA collaboration by: Town of Simsbury \, Town of Bloomfield\, & Capitol Clean Cities of CT\, Inc.  \nZEV’s or Zero Emission Vehicles are no longer just the future.  They have started to show up in your communities\, and the technology is continuously improving. Follow us in our series and come with your questions and learn about the technologies of today and how you may become part of that new low-carbon future.   \n
URL:http://ct-ccc.org/wp/event/traveling-show-of-the-latest-electric-vehicles-at-septemberfeast/
LOCATION:Simsbury Meadows Performing Arts Center\, 22 Iron Horse Boulevard\, Simsbury\, Connecticut
ATTACH;FMTTYPE=image/png:http://ct-ccc.org/wp/wp-content/uploads/2021/09/Screen-Shot-2021-09-08-at-5.17.12-PM.png
END:VEVENT
END:VCALENDAR