BEGIN:VCALENDAR
VERSION:2.0
PRODID:-//Capitol Clean Cities of Connecticut - ECPv5.0.3.1//NONSGML v1.0//EN
CALSCALE:GREGORIAN
METHOD:PUBLISH
X-WR-CALNAME:Capitol Clean Cities of Connecticut
X-ORIGINAL-URL:http://ct-ccc.org/wp
X-WR-CALDESC:Events for Capitol Clean Cities of Connecticut
BEGIN:VTIMEZONE
TZID:America/New_York
BEGIN:DAYLIGHT
TZOFFSETFROM:-0500
TZOFFSETTO:-0400
TZNAME:EDT
DTSTART:20210314T070000
END:DAYLIGHT
BEGIN:STANDARD
TZOFFSETFROM:-0400
TZOFFSETTO:-0500
TZNAME:EST
DTSTART:20211107T060000
END:STANDARD
END:VTIMEZONE
BEGIN:VEVENT
DTSTART;TZID=America/New_York:20210724T100000
DTEND;TZID=America/New_York:20210724T140000
DTSTAMP:20260421T180501
CREATED:20210721T151305Z
LAST-MODIFIED:20210721T151813Z
UID:1011-1627120800-1627135200@ct-ccc.org
SUMMARY:Traveling Show of the Latest Electric Vehicles
DESCRIPTION:Please join us at Hilltop Farm in Suffield for a traveling show of the latest electric vehicles. This event is part of a larger car and motorcycle show hosted at the farm. \nA suggested $10 donation per vehicle is requested to raise money for Friends of the Farm at Hilltop and Composite Lodge #28. \nThis event is a collaboration by Hilltop Farm\, Capitol Clean Cities of CT\, Inc.\, Town of Bloomfield & Town of Suffield. \n
URL:http://ct-ccc.org/wp/event/traveling-show-of-the-latest-electric-vehicles-10-2-pm/
LOCATION:Hilltop Farms\, 1616 Mapleton Ave\, Suffield\, CT\, United States
ATTACH;FMTTYPE=image/png:http://ct-ccc.org/wp/wp-content/uploads/2021/07/Screen-Shot-2021-07-21-at-11.08.28-AM.png
END:VEVENT
END:VCALENDAR