BEGIN:VCALENDAR
VERSION:2.0
PRODID:-//Capitol Clean Cities of Connecticut - ECPv5.0.3.1//NONSGML v1.0//EN
CALSCALE:GREGORIAN
METHOD:PUBLISH
X-WR-CALNAME:Capitol Clean Cities of Connecticut
X-ORIGINAL-URL:http://ct-ccc.org/wp
X-WR-CALDESC:Events for Capitol Clean Cities of Connecticut
BEGIN:VTIMEZONE
TZID:America/New_York
BEGIN:DAYLIGHT
TZOFFSETFROM:-0500
TZOFFSETTO:-0400
TZNAME:EDT
DTSTART:20210314T070000
END:DAYLIGHT
BEGIN:STANDARD
TZOFFSETFROM:-0400
TZOFFSETTO:-0500
TZNAME:EST
DTSTART:20211107T060000
END:STANDARD
END:VTIMEZONE
BEGIN:VEVENT
DTSTART;TZID=America/New_York:20210618T100000
DTEND;TZID=America/New_York:20210618T120000
DTSTAMP:20260421T212742
CREATED:20210507T184826Z
LAST-MODIFIED:20210507T190730Z
UID:970-1624010400-1624017600@ct-ccc.org
SUMMARY:Pride Travel Center Grand Opening
DESCRIPTION:Capitol Clean Cities of Connecticut\, Inc.  \nproudly invites you to the Grand Opening of the Pride Travel Center\, the first multi-alternative fuel travel center in the United States. Join distinguished speakers\, CT Clean Cities Coalitions\, dignitaries\, industry professionals and others as we celebrate this huge historic occasion for Hartford and all of Connecticut. For more information\, contact Craig Peters\, Coordinator at craigpeters82@gmail.com. \n
URL:http://ct-ccc.org/wp/event/pride-travel-center-grand-opening/
LOCATION:Pride Travel Center\, 10 Jennings Rd\, Hartford\, CT\, United States
ATTACH;FMTTYPE=image/png:http://ct-ccc.org/wp/wp-content/uploads/2021/05/Screen-Shot-2021-05-07-at-2.46.29-PM.png
END:VEVENT
END:VCALENDAR