BEGIN:VCALENDAR
VERSION:2.0
PRODID:-//Capitol Clean Cities of Connecticut - ECPv5.0.3.1//NONSGML v1.0//EN
CALSCALE:GREGORIAN
METHOD:PUBLISH
X-WR-CALNAME:Capitol Clean Cities of Connecticut
X-ORIGINAL-URL:http://ct-ccc.org/wp
X-WR-CALDESC:Events for Capitol Clean Cities of Connecticut
BEGIN:VTIMEZONE
TZID:America/New_York
BEGIN:DAYLIGHT
TZOFFSETFROM:-0500
TZOFFSETTO:-0400
TZNAME:EDT
DTSTART:20210314T070000
END:DAYLIGHT
BEGIN:STANDARD
TZOFFSETFROM:-0400
TZOFFSETTO:-0500
TZNAME:EST
DTSTART:20211107T060000
END:STANDARD
END:VTIMEZONE
BEGIN:VEVENT
DTSTART;TZID=America/New_York:20210615T113000
DTEND;TZID=America/New_York:20210615T123000
DTSTAMP:20260421T231032
CREATED:20210507T182121Z
LAST-MODIFIED:20210507T190703Z
UID:963-1623756600-1623760200@ct-ccc.org
SUMMARY:Part 3: Getting Zero Emission Vehicles Into Our Towns
DESCRIPTION:Please join us as the new CHEAPR guidelines are being rolled out to learn more about the financial incentives to transition to a new or used ZEV. \nPlease click here to pre-register for the virtual event: Online Registration.  \n
URL:http://ct-ccc.org/wp/event/part-3-getting-zero-emission-vehicles-into-our-towns/
ATTACH;FMTTYPE=image/png:http://ct-ccc.org/wp/wp-content/uploads/2021/05/Screen-Shot-2021-05-07-at-2.51.14-PM.png
END:VEVENT
END:VCALENDAR