BEGIN:VCALENDAR
VERSION:2.0
PRODID:-//Capitol Clean Cities of Connecticut - ECPv5.0.3.1//NONSGML v1.0//EN
CALSCALE:GREGORIAN
METHOD:PUBLISH
X-WR-CALNAME:Capitol Clean Cities of Connecticut
X-ORIGINAL-URL:http://ct-ccc.org/wp
X-WR-CALDESC:Events for Capitol Clean Cities of Connecticut
BEGIN:VTIMEZONE
TZID:America/New_York
BEGIN:DAYLIGHT
TZOFFSETFROM:-0500
TZOFFSETTO:-0400
TZNAME:EDT
DTSTART:20220313T070000
END:DAYLIGHT
BEGIN:STANDARD
TZOFFSETFROM:-0400
TZOFFSETTO:-0500
TZNAME:EST
DTSTART:20221106T060000
END:STANDARD
END:VTIMEZONE
BEGIN:VEVENT
DTSTART;TZID=America/New_York:20220125T140000
DTEND;TZID=America/New_York:20220125T150000
DTSTAMP:20260421T131810
CREATED:20220111T174257Z
LAST-MODIFIED:20220111T174603Z
UID:1049-1643119200-1643122800@ct-ccc.org
SUMMARY:Panel Discussion: How Smart & Time Of Use Charging Will Revolutionize The Charging Experience And Reduce Demand On The Energy Grid
DESCRIPTION:The upcoming webinar on Tuesday\, January 25\, 2021 from 2 to 3 pm will provide information around how smart & time of use charging will revolutionize the charging experience and reduce demand on the energy grid.  You’ll learn more about the utility’s role in EV transition and how to establish local connections and streamline processes.  Speakers from across the country will discuss: \n\nHow time of use charging can offer a simple solution to offer balance when there is too much or too little power\, and whether EVs should\, and whether they are able to take up this role.\nAs the amount of renewable energy in the grid increases\, will we have to change the way we charge EVs to ensure that the grid is not over strained? Will this mean we always need a smart charging system?\nWhat are utilities and distribution networks planning to do to address future constraints on the grid?\nAddressing the cyber security concerns of smart chargers – how can we protect consumer data and prevent ransomware attacks?\n\nPlease register for the webinar here: https://app.livestorm.co/solar-media/evusa-webinar-2?type=detailed \n
URL:http://ct-ccc.org/wp/event/panel-discussion-how-smart-time-of-use-charging-will-revolutionize-the-charging-experience-and-reduce-demand-on-the-energy-grid/
ATTACH;FMTTYPE=image/png:http://ct-ccc.org/wp/wp-content/uploads/2022/01/Screen-Shot-2022-01-11-at-12.42.37-PM.png
END:VEVENT
END:VCALENDAR