BEGIN:VCALENDAR
VERSION:2.0
PRODID:-//Capitol Clean Cities of Connecticut - ECPv5.0.3.1//NONSGML v1.0//EN
CALSCALE:GREGORIAN
METHOD:PUBLISH
X-WR-CALNAME:Capitol Clean Cities of Connecticut
X-ORIGINAL-URL:http://ct-ccc.org/wp
X-WR-CALDESC:Events for Capitol Clean Cities of Connecticut
BEGIN:VTIMEZONE
TZID:America/New_York
BEGIN:DAYLIGHT
TZOFFSETFROM:-0500
TZOFFSETTO:-0400
TZNAME:EDT
DTSTART:20200308T070000
END:DAYLIGHT
BEGIN:STANDARD
TZOFFSETFROM:-0400
TZOFFSETTO:-0500
TZNAME:EST
DTSTART:20201101T060000
END:STANDARD
END:VTIMEZONE
BEGIN:VEVENT
DTSTART;TZID=America/New_York:20201029T130000
DTEND;TZID=America/New_York:20201029T140000
DTSTAMP:20260422T075527
CREATED:20200925T165054Z
LAST-MODIFIED:20200925T165054Z
UID:891-1603976400-1603980000@ct-ccc.org
SUMMARY:Municipal EV Readiness Program Module 7: Public & Destination Charging
DESCRIPTION:The Municipal EV Readiness Toolkit 12-Week Program Module 7: Public & Destination Charging will help retail shopping property owners\, Planning & Zoning\, Economic & Community Development\, and Chambers of Commerce learn how to expand electric vehicle charging and develop town-wide\, comprehensive electrification plans to reach 30% electric by 2030. \nWe encourage all course participants to join us for Module 7 and learn how thow the modules will work together to support and develop an individualized\, town-wide\, transportation electrification plan. \nPlease register for the virtual event here: http://events.r20.constantcontact.com/register/event?oeidk=a07eh9wgxa3ff2d92dd&llr=s6mlhwcab \n
URL:http://ct-ccc.org/wp/event/municipal-ev-readiness-program-module-7-public-destination-charging/
ATTACH;FMTTYPE=image/png:http://ct-ccc.org/wp/wp-content/uploads/2020/09/Module-1-Banner.png
END:VEVENT
END:VCALENDAR