BEGIN:VCALENDAR
VERSION:2.0
PRODID:-//Capitol Clean Cities of Connecticut - ECPv5.0.3.1//NONSGML v1.0//EN
CALSCALE:GREGORIAN
METHOD:PUBLISH
X-WR-CALNAME:Capitol Clean Cities of Connecticut
X-ORIGINAL-URL:http://ct-ccc.org/wp
X-WR-CALDESC:Events for Capitol Clean Cities of Connecticut
BEGIN:VTIMEZONE
TZID:America/New_York
BEGIN:DAYLIGHT
TZOFFSETFROM:-0500
TZOFFSETTO:-0400
TZNAME:EDT
DTSTART:20200308T070000
END:DAYLIGHT
BEGIN:STANDARD
TZOFFSETFROM:-0400
TZOFFSETTO:-0500
TZNAME:EST
DTSTART:20201101T060000
END:STANDARD
END:VTIMEZONE
BEGIN:VEVENT
DTSTART;TZID=America/New_York:20201015T130000
DTEND;TZID=America/New_York:20201015T140000
DTSTAMP:20260422T060350
CREATED:20200924T215940Z
LAST-MODIFIED:20200924T220004Z
UID:885-1602766800-1602770400@ct-ccc.org
SUMMARY:Municipal EV Readiness Program Module 5: Zoning
DESCRIPTION:The Municipal EV Readiness Toolkit 12-Week Program Module 5: Zoning will help Planning & Zoning departments\, Zoning Commission members\, and Planning Commission members learn about EV make-ready policies and develop town-wide\, comprehensive electrification plans to reach 30% electric by 2030. \nWe encourage all course participants to join us for Module 5 and learn how the modules will work together to support and develop an individualized\, town-wide\, transportation electrification plan. \nPlease register for the virtual event here: https://events.r20.constantcontact.com/register/eventReg?oeidk=a07eh9wgb25515d4cfb&oseq=&c=&ch= \n
URL:http://ct-ccc.org/wp/event/municipal-ev-readiness-program-module-5-zoning/
ATTACH;FMTTYPE=image/png:http://ct-ccc.org/wp/wp-content/uploads/2020/09/Module-1-Banner.png
END:VEVENT
END:VCALENDAR