BEGIN:VCALENDAR
VERSION:2.0
PRODID:-//Capitol Clean Cities of Connecticut - ECPv5.0.3.1//NONSGML v1.0//EN
CALSCALE:GREGORIAN
METHOD:PUBLISH
X-WR-CALNAME:Capitol Clean Cities of Connecticut
X-ORIGINAL-URL:http://ct-ccc.org/wp
X-WR-CALDESC:Events for Capitol Clean Cities of Connecticut
BEGIN:VTIMEZONE
TZID:America/New_York
BEGIN:DAYLIGHT
TZOFFSETFROM:-0500
TZOFFSETTO:-0400
TZNAME:EDT
DTSTART:20200308T070000
END:DAYLIGHT
BEGIN:STANDARD
TZOFFSETFROM:-0400
TZOFFSETTO:-0500
TZNAME:EST
DTSTART:20201101T060000
END:STANDARD
END:VTIMEZONE
BEGIN:VEVENT
DTSTART;TZID=America/New_York:20201119T130000
DTEND;TZID=America/New_York:20201119T140000
DTSTAMP:20260422T045131
CREATED:20200925T165556Z
LAST-MODIFIED:20200925T165556Z
UID:898-1605790800-1605794400@ct-ccc.org
SUMMARY:Municipal EV Readiness Program Module 10: Transit Buses
DESCRIPTION:The Municipal EV Readiness Toolkit 12-Week Program Module 10: Transit Buses will help transit districts\, Energy Task Force Members\, sustainability departments\, and ECD Commission members learn how to electrify their fleets and develop town-wide\, comprehensive electrification plans to reach 30% electric by 2030. \nWe encourage all course participants to join us for Module 10 and learn how thow the modules will work together to support and develop an individualized\, town-wide\, transportation electrification plan. \nPlease register for the virtual event here: http://events.r20.constantcontact.com/register/event?oeidk=a07eh9wh2nfe8adad72&llr=s6mlhwcab \n
URL:http://ct-ccc.org/wp/event/municipal-ev-readiness-program-module-10-transit-buses/
ATTACH;FMTTYPE=image/png:http://ct-ccc.org/wp/wp-content/uploads/2020/09/Module-1-Banner.png
END:VEVENT
END:VCALENDAR