BEGIN:VCALENDAR
VERSION:2.0
PRODID:-//Capitol Clean Cities of Connecticut - ECPv5.0.3.1//NONSGML v1.0//EN
CALSCALE:GREGORIAN
METHOD:PUBLISH
X-WR-CALNAME:Capitol Clean Cities of Connecticut
X-ORIGINAL-URL:http://ct-ccc.org/wp
X-WR-CALDESC:Events for Capitol Clean Cities of Connecticut
BEGIN:VTIMEZONE
TZID:America/New_York
BEGIN:DAYLIGHT
TZOFFSETFROM:-0500
TZOFFSETTO:-0400
TZNAME:EDT
DTSTART:20200308T070000
END:DAYLIGHT
BEGIN:STANDARD
TZOFFSETFROM:-0400
TZOFFSETTO:-0500
TZNAME:EST
DTSTART:20201101T060000
END:STANDARD
END:VTIMEZONE
BEGIN:VEVENT
DTSTART;VALUE=DATE:20200401
DTEND;VALUE=DATE:20200521
DTSTAMP:20260422T041219
CREATED:20200422T170637Z
LAST-MODIFIED:20200422T170749Z
UID:819-1585699200-1590019199@ct-ccc.org
SUMMARY:Meetings & Events Temporarily Suspended Due to COVID-19
DESCRIPTION:Capitol Clean Cities of CT\, Inc. always considers safety a top priority. \nAs the situation with COVID-19 evolves\, we continue to adapt to ensure everyone’s safety.  In light of the Governor’s executive orders\, we have suspended all events and meetings until further notice.  \nStay safe! \n
URL:http://ct-ccc.org/wp/event/meetings-events-temporarily-suspended-due-to-covid-19/
END:VEVENT
END:VCALENDAR