BEGIN:VCALENDAR
VERSION:2.0
PRODID:-//Capitol Clean Cities of Connecticut - ECPv5.0.3.1//NONSGML v1.0//EN
CALSCALE:GREGORIAN
METHOD:PUBLISH
X-WR-CALNAME:Capitol Clean Cities of Connecticut
X-ORIGINAL-URL:http://ct-ccc.org/wp
X-WR-CALDESC:Events for Capitol Clean Cities of Connecticut
BEGIN:VTIMEZONE
TZID:America/New_York
BEGIN:DAYLIGHT
TZOFFSETFROM:-0500
TZOFFSETTO:-0400
TZNAME:EDT
DTSTART:20210314T070000
END:DAYLIGHT
BEGIN:STANDARD
TZOFFSETFROM:-0400
TZOFFSETTO:-0500
TZNAME:EST
DTSTART:20211107T060000
END:STANDARD
END:VTIMEZONE
BEGIN:VEVENT
DTSTART;TZID=America/New_York:20210225T130000
DTEND;TZID=America/New_York:20210225T140000
DTSTAMP:20260421T230329
CREATED:20210221T155418Z
LAST-MODIFIED:20210221T162245Z
UID:937-1614258000-1614261600@ct-ccc.org
SUMMARY:Getting Zero Emissions Vehicles Into Our Towns Webinar
DESCRIPTION:Please join us for a webinar on February 25\, 2021 from 1pm – 2pm ET. \nZEVs or Zero Emission Vehicles are no longer just the future. They\nhave started to show up in our communities and the technology is\ncontinuously improving. Come with your questions and learn about the\ntechnologies of today and how you may become part of that new low\ncarbon future. \nHosted by Capital Clean Cities and the Town Of Bloomfield. \nPlease register for the webinar by visiting: https://bloomfieldct.zoom.us/webinar/register/WN_QvmFHPw0T8qsTca4OjpIPw \n \n
URL:http://ct-ccc.org/wp/event/getting-zero-emissions-vehicles-into-our-towns-webinar/
ATTACH;FMTTYPE=image/png:http://ct-ccc.org/wp/wp-content/uploads/2021/02/Screen-Shot-2021-02-21-at-11.08.04-AM.png
END:VEVENT
END:VCALENDAR