BEGIN:VCALENDAR
VERSION:2.0
PRODID:-//Capitol Clean Cities of Connecticut - ECPv5.0.3.1//NONSGML v1.0//EN
CALSCALE:GREGORIAN
METHOD:PUBLISH
X-WR-CALNAME:Capitol Clean Cities of Connecticut
X-ORIGINAL-URL:http://ct-ccc.org/wp
X-WR-CALDESC:Events for Capitol Clean Cities of Connecticut
BEGIN:VTIMEZONE
TZID:America/New_York
BEGIN:DAYLIGHT
TZOFFSETFROM:-0500
TZOFFSETTO:-0400
TZNAME:EDT
DTSTART:20220313T070000
END:DAYLIGHT
BEGIN:STANDARD
TZOFFSETFROM:-0400
TZOFFSETTO:-0500
TZNAME:EST
DTSTART:20221106T060000
END:STANDARD
END:VTIMEZONE
BEGIN:VEVENT
DTSTART;TZID=America/New_York:20220511T100000
DTEND;TZID=America/New_York:20220511T120000
DTSTAMP:20260421T133135
CREATED:20220518T144403Z
LAST-MODIFIED:20220518T144403Z
UID:1121-1652263200-1652270400@ct-ccc.org
SUMMARY:Fuel Cell Electric Class 8 Truck Demonstration
DESCRIPTION:Please join us at Pride H2 Fueling Station on Wednesday May 11\, 2022 between 10:00 am and 12:00 pm. \nPlease RSVP with the names\, organizations and email addresses of attendees to Andrea Lubawy at Andrea.Lubway@Toyota.com. \n
URL:http://ct-ccc.org/wp/event/fuel-cell-electric-class-8-truck-demonstration/
LOCATION:Pride Travel Center\, 10 Jennings Rd\, Hartford\, CT\, United States
ATTACH;FMTTYPE=image/png:http://ct-ccc.org/wp/wp-content/uploads/2022/05/Screen-Shot-2022-05-18-at-10.39.20-AM.png
END:VEVENT
END:VCALENDAR