BEGIN:VCALENDAR
VERSION:2.0
PRODID:-//Capitol Clean Cities of Connecticut - ECPv5.0.3.1//NONSGML v1.0//EN
CALSCALE:GREGORIAN
METHOD:PUBLISH
X-WR-CALNAME:Capitol Clean Cities of Connecticut
X-ORIGINAL-URL:http://ct-ccc.org/wp
X-WR-CALDESC:Events for Capitol Clean Cities of Connecticut
BEGIN:VTIMEZONE
TZID:America/New_York
BEGIN:DAYLIGHT
TZOFFSETFROM:-0500
TZOFFSETTO:-0400
TZNAME:EDT
DTSTART:20220313T070000
END:DAYLIGHT
BEGIN:STANDARD
TZOFFSETFROM:-0400
TZOFFSETTO:-0500
TZNAME:EST
DTSTART:20221106T060000
END:STANDARD
END:VTIMEZONE
BEGIN:VEVENT
DTSTART;TZID=America/New_York:20221003T083000
DTEND;TZID=America/New_York:20221003T163000
DTSTAMP:20260421T164010
CREATED:20220721T003732Z
LAST-MODIFIED:20220721T004507Z
UID:1148-1664785800-1664814600@ct-ccc.org
SUMMARY:Alt Wheels Fleet Day
DESCRIPTION:The largest meeting of corporate and municipal Fleet Managers on the East Coast. \nLearn effective fleet management strategies that reduce fuel usage and cut costs. \nMonday October 3\, 2022 at Four Points By Sheraton in Norwood\, MA. \n\nPanels\nExhibits\nVehicle Displays\nAlternative Transportation Solutions\nRide & Drive Opportunities\n\nRegister for the event: Alt Wheels Fleet Day Registration \n
URL:http://ct-ccc.org/wp/event/alt-wheels-fleet-day/
LOCATION:Four Points by Sheraton\, 1125 Boston Providence Tpke\, Norwood\, MA\, United States
ATTACH;FMTTYPE=image/png:http://ct-ccc.org/wp/wp-content/uploads/2022/07/Screen-Shot-2022-07-20-at-8.33.28-PM.png
END:VEVENT
END:VCALENDAR