BEGIN:VCALENDAR
VERSION:2.0
PRODID:-//Capitol Clean Cities of Connecticut - ECPv5.0.3.1//NONSGML v1.0//EN
CALSCALE:GREGORIAN
METHOD:PUBLISH
X-WR-CALNAME:Capitol Clean Cities of Connecticut
X-ORIGINAL-URL:http://ct-ccc.org/wp
X-WR-CALDESC:Events for Capitol Clean Cities of Connecticut
BEGIN:VTIMEZONE
TZID:America/New_York
BEGIN:DAYLIGHT
TZOFFSETFROM:-0500
TZOFFSETTO:-0400
TZNAME:EDT
DTSTART:20200308T070000
END:DAYLIGHT
BEGIN:STANDARD
TZOFFSETFROM:-0400
TZOFFSETTO:-0500
TZNAME:EST
DTSTART:20201101T060000
END:STANDARD
END:VTIMEZONE
BEGIN:VEVENT
DTSTART;TZID=America/New_York:20201005T100000
DTEND;TZID=America/New_York:20201005T160000
DTSTAMP:20260422T023442
CREATED:20200909T162721Z
LAST-MODIFIED:20200909T162721Z
UID:864-1601892000-1601913600@ct-ccc.org
SUMMARY:Alt Wheels Fleet Day Virtual Event
DESCRIPTION:The premier annual event promoting alternative and sustainable transportation solutions for corporate and municipal fleet managers on the east coast. \nTo register\, please use this link: https://www.eventbrite.com/e/altwheels-fleet-day-registration-112890544658  \n
URL:http://ct-ccc.org/wp/event/alt-wheels-fleet-day-virtual-event/
ATTACH;FMTTYPE=image/jpeg:http://ct-ccc.org/wp/wp-content/uploads/2020/09/AltWheels-Co-Hosts.jpg
END:VEVENT
END:VCALENDAR